BEGIN:VCALENDAR
VERSION:2.0
PRODID:-//Ontario Physicians Recruitment Alliance - ECPv6.15.20//NONSGML v1.0//EN
CALSCALE:GREGORIAN
METHOD:PUBLISH
X-WR-CALNAME:Ontario Physicians Recruitment Alliance
X-ORIGINAL-URL:https://opra.ca
X-WR-CALDESC:Events for Ontario Physicians Recruitment Alliance
REFRESH-INTERVAL;VALUE=DURATION:PT1H
X-Robots-Tag:noindex
X-PUBLISHED-TTL:PT1H
BEGIN:VTIMEZONE
TZID:Europe/London
BEGIN:DAYLIGHT
TZOFFSETFROM:+0000
TZOFFSETTO:+0100
TZNAME:BST
DTSTART:20250330T010000
END:DAYLIGHT
BEGIN:STANDARD
TZOFFSETFROM:+0100
TZOFFSETTO:+0000
TZNAME:GMT
DTSTART:20251026T010000
END:STANDARD
BEGIN:DAYLIGHT
TZOFFSETFROM:+0000
TZOFFSETTO:+0100
TZNAME:BST
DTSTART:20260329T010000
END:DAYLIGHT
BEGIN:STANDARD
TZOFFSETFROM:+0100
TZOFFSETTO:+0000
TZNAME:GMT
DTSTART:20261025T010000
END:STANDARD
BEGIN:DAYLIGHT
TZOFFSETFROM:+0000
TZOFFSETTO:+0100
TZNAME:BST
DTSTART:20270328T010000
END:DAYLIGHT
BEGIN:STANDARD
TZOFFSETFROM:+0100
TZOFFSETTO:+0000
TZNAME:GMT
DTSTART:20271031T010000
END:STANDARD
END:VTIMEZONE
BEGIN:VEVENT
DTSTART;TZID=Europe/London:20260422T193000
DTEND;TZID=Europe/London:20260422T210000
DTSTAMP:20260420T172447
CREATED:20260322T194325Z
LAST-MODIFIED:20260328T001050Z
UID:4272-1776886200-1776891600@opra.ca
SUMMARY:OPRA - Virtual Info Session for UK GP's
DESCRIPTION:Join us on April 22 7:30 GMT (2:30 EDT) for a virtual info session for UK GP’s looking to relocate to Ontario!\nLearn about: \n\nOPRA and the supports available through community physician recruitment programs in Ontario\nPrimary Care Models in Ontario\nTransitioning into Practice\nLicensing and Immigration Pathways\nQ&A\n\nRegister Now!  \n \nsponsored by:
URL:https://opra.ca/event/uk-gp-info-session/
CATEGORIES:Info Session
ATTACH;FMTTYPE=image/jpeg:https://opra.ca/wp-content/uploads/2024/09/Canadian-Career-Expo.jpg
END:VEVENT
END:VCALENDAR