BEGIN:VCALENDAR
VERSION:2.0
PRODID:-//Ontario Physicians Recruitment Alliance - ECPv6.15.20//NONSGML v1.0//EN
CALSCALE:GREGORIAN
METHOD:PUBLISH
X-ORIGINAL-URL:https://opra.ca
X-WR-CALDESC:Events for Ontario Physicians Recruitment Alliance
REFRESH-INTERVAL;VALUE=DURATION:PT1H
X-Robots-Tag:noindex
X-PUBLISHED-TTL:PT1H
BEGIN:VTIMEZONE
TZID:America/Toronto
BEGIN:DAYLIGHT
TZOFFSETFROM:-0500
TZOFFSETTO:-0400
TZNAME:EDT
DTSTART:20240310T070000
END:DAYLIGHT
BEGIN:STANDARD
TZOFFSETFROM:-0400
TZOFFSETTO:-0500
TZNAME:EST
DTSTART:20241103T060000
END:STANDARD
BEGIN:DAYLIGHT
TZOFFSETFROM:-0500
TZOFFSETTO:-0400
TZNAME:EDT
DTSTART:20250309T070000
END:DAYLIGHT
BEGIN:STANDARD
TZOFFSETFROM:-0400
TZOFFSETTO:-0500
TZNAME:EST
DTSTART:20251102T060000
END:STANDARD
BEGIN:DAYLIGHT
TZOFFSETFROM:-0500
TZOFFSETTO:-0400
TZNAME:EDT
DTSTART:20260308T070000
END:DAYLIGHT
BEGIN:STANDARD
TZOFFSETFROM:-0400
TZOFFSETTO:-0500
TZNAME:EST
DTSTART:20261101T060000
END:STANDARD
END:VTIMEZONE
BEGIN:VEVENT
DTSTART;VALUE=DATE:20251105
DTEND;VALUE=DATE:20251108
DTSTAMP:20260421T084341
CREATED:20251102T210848Z
LAST-MODIFIED:20251102T210848Z
UID:4146-1762300800-1762559999@opra.ca
SUMMARY:Family Medicine Forum
DESCRIPTION:Physician recruiters from across Ontario will be exhibiting at the Family Medicine Forum in Winnipeg Nov 5 to 9th. Come visit us in the exhibit hall to talk about practice opportunities!
URL:https://opra.ca/event/family-medicine-forum/
LOCATION:Winnipeg Convention Centre\, 375 York Ave\, Winnipeg\, Manitoba\, R3C 3J3\, Canada
CATEGORIES:Career Expo
ATTACH;FMTTYPE=image/png:https://opra.ca/wp-content/uploads/2025/11/Untitled-design-1.png
END:VEVENT
END:VCALENDAR