BEGIN:VCALENDAR
VERSION:2.0
PRODID:-//Ontario Physicians Recruitment Alliance - ECPv6.15.20//NONSGML v1.0//EN
CALSCALE:GREGORIAN
METHOD:PUBLISH
X-WR-CALNAME:Ontario Physicians Recruitment Alliance
X-ORIGINAL-URL:https://opra.ca
X-WR-CALDESC:Events for Ontario Physicians Recruitment Alliance
REFRESH-INTERVAL;VALUE=DURATION:PT1H
X-Robots-Tag:noindex
X-PUBLISHED-TTL:PT1H
BEGIN:VTIMEZONE
TZID:America/Toronto
BEGIN:DAYLIGHT
TZOFFSETFROM:-0500
TZOFFSETTO:-0400
TZNAME:EDT
DTSTART:20240310T070000
END:DAYLIGHT
BEGIN:STANDARD
TZOFFSETFROM:-0400
TZOFFSETTO:-0500
TZNAME:EST
DTSTART:20241103T060000
END:STANDARD
BEGIN:DAYLIGHT
TZOFFSETFROM:-0500
TZOFFSETTO:-0400
TZNAME:EDT
DTSTART:20250309T070000
END:DAYLIGHT
BEGIN:STANDARD
TZOFFSETFROM:-0400
TZOFFSETTO:-0500
TZNAME:EST
DTSTART:20251102T060000
END:STANDARD
BEGIN:DAYLIGHT
TZOFFSETFROM:-0500
TZOFFSETTO:-0400
TZNAME:EDT
DTSTART:20260308T070000
END:DAYLIGHT
BEGIN:STANDARD
TZOFFSETFROM:-0400
TZOFFSETTO:-0500
TZNAME:EST
DTSTART:20261101T060000
END:STANDARD
END:VTIMEZONE
BEGIN:VEVENT
DTSTART;VALUE=DATE:20251005
DTEND;VALUE=DATE:20251010
DTSTAMP:20260421T101003
CREATED:20250113T194423Z
LAST-MODIFIED:20250113T194423Z
UID:1314-1759622400-1760054399@opra.ca
SUMMARY:FMX Oct 5-9\, 2025
DESCRIPTION:Family Medicine Experience (FMX)\nThis national conference is organized by the American Association of Family Practice and draws family doctors from across the country for professional development. \nMore info coming soon!
URL:https://opra.ca/event/fmx-oct-5-9-2025/
LOCATION:Anaheim Convention Centre\, 200 S. Anaheim Blvd.\, Anaheim\, CA\, United States
CATEGORIES:Career Expo
ATTACH;FMTTYPE=image/png:https://opra.ca/wp-content/uploads/2025/01/FMX-oct-5.png
END:VEVENT
BEGIN:VEVENT
DTSTART;TZID=America/Toronto:20251024T130000
DTEND;TZID=America/Toronto:20251024T160000
DTSTAMP:20260421T101003
CREATED:20250915T152616Z
LAST-MODIFIED:20250925T125514Z
UID:4064-1761310800-1761321600@opra.ca
SUMMARY:Ottawa University DFM Career Fair
DESCRIPTION:COPRA will be attending the Ottawa University Department of Family Medicine Career Fair on Oct 24\, 2025! \nDate:  October 24th\, 2025 \nSetup time: 11:00AM – 1:00PM \nResidents’ arrival: 1:00PM – 4:00PM \n 
URL:https://opra.ca/event/ottawa-university-dfm-career-fair/
LOCATION:Ottawa Convention Centre\, 200 Coventry Rd\, Ottawa\, Ontario\, K1K 4S3
CATEGORIES:Career Expo
ATTACH;FMTTYPE=image/png:https://opra.ca/wp-content/uploads/2025/09/Ottawa-U-169.png
END:VEVENT
END:VCALENDAR