BEGIN:VCALENDAR
VERSION:2.0
PRODID:-//Ontario Physicians Recruitment Alliance - ECPv6.15.20//NONSGML v1.0//EN
CALSCALE:GREGORIAN
METHOD:PUBLISH
X-ORIGINAL-URL:https://opra.ca
X-WR-CALDESC:Events for Ontario Physicians Recruitment Alliance
REFRESH-INTERVAL;VALUE=DURATION:PT1H
X-Robots-Tag:noindex
X-PUBLISHED-TTL:PT1H
BEGIN:VTIMEZONE
TZID:America/Toronto
BEGIN:DAYLIGHT
TZOFFSETFROM:-0500
TZOFFSETTO:-0400
TZNAME:EDT
DTSTART:20240310T070000
END:DAYLIGHT
BEGIN:STANDARD
TZOFFSETFROM:-0400
TZOFFSETTO:-0500
TZNAME:EST
DTSTART:20241103T060000
END:STANDARD
BEGIN:DAYLIGHT
TZOFFSETFROM:-0500
TZOFFSETTO:-0400
TZNAME:EDT
DTSTART:20250309T070000
END:DAYLIGHT
BEGIN:STANDARD
TZOFFSETFROM:-0400
TZOFFSETTO:-0500
TZNAME:EST
DTSTART:20251102T060000
END:STANDARD
BEGIN:DAYLIGHT
TZOFFSETFROM:-0500
TZOFFSETTO:-0400
TZNAME:EDT
DTSTART:20260308T070000
END:DAYLIGHT
BEGIN:STANDARD
TZOFFSETFROM:-0400
TZOFFSETTO:-0500
TZNAME:EST
DTSTART:20261101T060000
END:STANDARD
END:VTIMEZONE
BEGIN:VEVENT
DTSTART;VALUE=DATE:20250907
DTEND;VALUE=DATE:20250911
DTSTAMP:20260421T114025
CREATED:20250825T142420Z
LAST-MODIFIED:20250825T143232Z
UID:4039-1757203200-1757548799@opra.ca
SUMMARY:ACEP
DESCRIPTION:OPRA will be exhibiting at the ACEP Scientific Assembly on September 7-9 2025\, in Salt Lake City Utah.\nThis is a series of collaborative initiatives to bring in Emergency Medicine Physicians into Ontario.
URL:https://opra.ca/event/acep/
CATEGORIES:Career Expo
ATTACH;FMTTYPE=image/png:https://opra.ca/wp-content/uploads/2025/08/Untitled-design-48.png
END:VEVENT
BEGIN:VEVENT
DTSTART;TZID=America/Toronto:20250922T080000
DTEND;TZID=America/Toronto:20250922T120000
DTSTAMP:20260421T114025
CREATED:20250915T151857Z
LAST-MODIFIED:20250915T152410Z
UID:4059-1758528000-1758542400@opra.ca
SUMMARY:KW McMaster Career Fair
DESCRIPTION:COPRA will be attending the Career Fair on Sept 22\, 2025 to speak with Family Medicine Residents looking for career opportunities! \n 
URL:https://opra.ca/event/kw-mcmaster-career-fair/
CATEGORIES:Career Expo
ATTACH;FMTTYPE=image/png:https://opra.ca/wp-content/uploads/2025/09/McMaster-169.png
END:VEVENT
END:VCALENDAR