BEGIN:VCALENDAR
VERSION:2.0
PRODID:-//Ontario Physicians Recruitment Alliance - ECPv6.15.20//NONSGML v1.0//EN
CALSCALE:GREGORIAN
METHOD:PUBLISH
X-WR-CALNAME:Ontario Physicians Recruitment Alliance
X-ORIGINAL-URL:https://opra.ca
X-WR-CALDESC:Events for Ontario Physicians Recruitment Alliance
REFRESH-INTERVAL;VALUE=DURATION:PT1H
X-Robots-Tag:noindex
X-PUBLISHED-TTL:PT1H
BEGIN:VTIMEZONE
TZID:Europe/London
BEGIN:DAYLIGHT
TZOFFSETFROM:+0000
TZOFFSETTO:+0100
TZNAME:BST
DTSTART:20240331T010000
END:DAYLIGHT
BEGIN:STANDARD
TZOFFSETFROM:+0100
TZOFFSETTO:+0000
TZNAME:GMT
DTSTART:20241027T010000
END:STANDARD
BEGIN:DAYLIGHT
TZOFFSETFROM:+0000
TZOFFSETTO:+0100
TZNAME:BST
DTSTART:20250330T010000
END:DAYLIGHT
BEGIN:STANDARD
TZOFFSETFROM:+0100
TZOFFSETTO:+0000
TZNAME:GMT
DTSTART:20251026T010000
END:STANDARD
BEGIN:DAYLIGHT
TZOFFSETFROM:+0000
TZOFFSETTO:+0100
TZNAME:BST
DTSTART:20260329T010000
END:DAYLIGHT
BEGIN:STANDARD
TZOFFSETFROM:+0100
TZOFFSETTO:+0000
TZNAME:GMT
DTSTART:20261025T010000
END:STANDARD
END:VTIMEZONE
BEGIN:VEVENT
DTSTART;TZID=Europe/London:20250531T130000
DTEND;TZID=Europe/London:20250531T170000
DTSTAMP:20260421T175819
CREATED:20250301T141841Z
LAST-MODIFIED:20250301T201252Z
UID:1994-1748696400-1748710800@opra.ca
SUMMARY:Ontario GP Job Fair in Birmingham\, UK
DESCRIPTION:We are excited to announce that the Ontario Physician Recruitment Alliance will be hosting a Job Fair in Birmingham\, United Kingdom on May 31st between 1-5:00 GMT at the Delta by Marriott Birmingham. This is a free event for physicians\, but you will need to register early as spots are limited. \nRecruiters from across the province of Ontario will be in attendance. \nREGISTER NOW \n 
URL:https://opra.ca/event/ontario-gp-job-fair-in-birmingham-uk/
LOCATION:Delta by Marriott Birmingham\, Westpoint Room\, 12 Hagley Rd\, Birmingham\, United Kingdom
CATEGORIES:Career Expo
ATTACH;FMTTYPE=image/png:https://opra.ca/wp-content/uploads/2025/03/Ontario-GP-Job-Fair-2.png
END:VEVENT
END:VCALENDAR