BEGIN:VCALENDAR
VERSION:2.0
PRODID:-//Ontario Physicians Recruitment Alliance - ECPv6.15.20//NONSGML v1.0//EN
CALSCALE:GREGORIAN
METHOD:PUBLISH
X-WR-CALNAME:Ontario Physicians Recruitment Alliance
X-ORIGINAL-URL:https://opra.ca
X-WR-CALDESC:Events for Ontario Physicians Recruitment Alliance
REFRESH-INTERVAL;VALUE=DURATION:PT1H
X-Robots-Tag:noindex
X-PUBLISHED-TTL:PT1H
BEGIN:VTIMEZONE
TZID:America/Toronto
BEGIN:DAYLIGHT
TZOFFSETFROM:-0500
TZOFFSETTO:-0400
TZNAME:EDT
DTSTART:20240310T070000
END:DAYLIGHT
BEGIN:STANDARD
TZOFFSETFROM:-0400
TZOFFSETTO:-0500
TZNAME:EST
DTSTART:20241103T060000
END:STANDARD
BEGIN:DAYLIGHT
TZOFFSETFROM:-0500
TZOFFSETTO:-0400
TZNAME:EDT
DTSTART:20250309T070000
END:DAYLIGHT
BEGIN:STANDARD
TZOFFSETFROM:-0400
TZOFFSETTO:-0500
TZNAME:EST
DTSTART:20251102T060000
END:STANDARD
BEGIN:DAYLIGHT
TZOFFSETFROM:-0500
TZOFFSETTO:-0400
TZNAME:EDT
DTSTART:20260308T070000
END:DAYLIGHT
BEGIN:STANDARD
TZOFFSETFROM:-0400
TZOFFSETTO:-0500
TZNAME:EST
DTSTART:20261101T060000
END:STANDARD
END:VTIMEZONE
BEGIN:VEVENT
DTSTART;TZID=America/Toronto:20250411T080000
DTEND;TZID=America/Toronto:20250411T170000
DTSTAMP:20260421T193000
CREATED:20250411T192624Z
LAST-MODIFIED:20250411T201040Z
UID:3791-1744358400-1744390800@opra.ca
SUMMARY:Career MD Virtual Career Fair OBGYN
DESCRIPTION:Calling All OB/GYNs in the U.S.!Join COPRA at the CareerMD Virtual OB/GYN Career Fair – April 15\, 2025 \nLooking to take your OB/GYN career north of the border? 🌎🇨🇦COPRA (Central Ontario Physician Recruitment Alliance) is excited to connect with physicians interested in exploring life and practice in Ontario\, Canada! \n🗓 Date: April 15\, 2025💻 Location: CareerMD Virtual Platform🌟 Who We Are: A collective of physician recruiters representing vibrant communities across Central Ontario – offering diverse practice settings\, competitive incentives\, and support every step of the way. \nCome chat with us about:✔ OB/GYN opportunities in beautiful Central Ontario✔ Licensing pathways for U.S.-trained physicians✔ Lifestyle\, relocation\, and community perks \nRegister now: [Insert CareerMD registration link]
URL:https://opra.ca/event/career-md-virtual-career-fair-obgyn/
CATEGORIES:Career Expo
ATTACH;FMTTYPE=image/png:https://opra.ca/wp-content/uploads/2025/04/OBGYN-Career-MD.png
END:VEVENT
BEGIN:VEVENT
DTSTART;VALUE=DATE:20250424
DTEND;VALUE=DATE:20250427
DTSTAMP:20260421T193000
CREATED:20250411T191818Z
LAST-MODIFIED:20250411T194456Z
UID:3787-1745452800-1745711999@opra.ca
SUMMARY:SRPC Rural and Remote Conference
DESCRIPTION:Join us in Winnipeg\, Manitoba for the Society of Rural Physicians of Canada’s (SRPC) flagship Rural & Remote Medicine Conference — the largest rural medicine gathering in the country! \n🗓 Date: April 24-26. 2025📍 Location: RBC Convention Centre\, Winnipeg\, MB \nWhether you’re a rural physician\, resident\, student\, recruiter\, or stakeholder\, this conference offers:✨ Over 100 practical sessions and hands-on workshops🤝 Unparalleled networking with Canada’s rural and remote healthcare leaders🏞 A celebration of rural practice\, culture\, and community \nVisit us at our COPRA booth! Let’s connect about opportunities in Ontario!
URL:https://opra.ca/event/srpc-rural-and-remote-conference/
LOCATION:Winnipeg Convention Centre\, 375 York Ave\, Winnipeg\, Manitoba\, R3C 3J3\, Canada
CATEGORIES:Career Expo
ATTACH;FMTTYPE=image/png:https://opra.ca/wp-content/uploads/2025/04/IMG_1260.png
END:VEVENT
END:VCALENDAR